BEGIN:VCALENDAR
VERSION:2.0
PRODID:-//Squarespace Inc/Squarespace 6//v6//EN
BEGIN:VEVENT
UID:5a8e2d7853450a4c0a85e339@squarespace.com
DTSTAMP:20180222T024015Z
DTSTART:20180503T223000Z
DTEND:20180504T013000Z
SUMMARY:STRINGS UNDER THE STARS
GEO:-33.281685;149.103226
LOCATION:Union Bank\, Corner of Sale &  Byng Streets\, Orange NSW 2800\, Au
 stralia
END:VEVENT
END:VCALENDAR
