BEGIN:VCALENDAR
VERSION:2.0
PRODID:-//Squarespace Inc/Squarespace 6//v6//EN
BEGIN:VEVENT
UID:5a8e2c178165f569cbfc30d2@squarespace.com
DTSTAMP:20180222T023907Z
DTSTART:20180301T233000Z
DTEND:20180302T023000Z
SUMMARY: STRINGS UNDER THE STARS
GEO:-33.281685;149.103226
LOCATION:Union Bank\, Corner of Sale &  Byng Streets\, Orange NSW 2800\, Au
 stralia
END:VEVENT
END:VCALENDAR
