BEGIN:VCALENDAR
VERSION:2.0
PRODID:-//Squarespace Inc/Squarespace 6//v6//EN
BEGIN:VEVENT
UID:5a8e2eb1419202db323a1c57@squarespace.com
DTSTAMP:20180222T030058Z
DTSTART:20180603T183000Z
DTEND:20180603T193000Z
SUMMARY:Dvorak Symphony No. 9
GEO:-33.281749;149.093034
LOCATION:ORANGE Regional Conservatorium\, 73A Hill Street\, Orange\, NSW\, 
 2800\, Australia
END:VEVENT
END:VCALENDAR
