BEGIN:VCALENDAR
VERSION:2.0
PRODID:-//Squarespace Inc/Squarespace 6//v6//EN
BEGIN:VEVENT
UID:58ec8e27d482e9e6fdca56dd@squarespace.com
DTSTAMP:20170411T082553Z
DTSTART:20170520T183000Z
DTEND:20170520T193000Z
SUMMARY:More than a Waltz
GEO:-33.281957;149.099864
LOCATION:Holy Trinity Anglican Church\, Cnr Anson & Byng Sts\, Orange NSW 2
 800\, Australia
END:VEVENT
END:VCALENDAR
