BEGIN:VCALENDAR
VERSION:2.0
PRODID:-//Squarespace Inc/Squarespace 6//v6//EN
BEGIN:VEVENT
UID:5a8e2fd8f9619ab66394676d@squarespace.com
DTSTAMP:20180306T235129Z
DTSTART:20181021T000000Z
DTEND:20181021T013000Z
SUMMARY:Brandenburg and Beyond
GEO:-33.56402;148.659765
LOCATION:Canowindra Services Club\, 93 Gaskill Street\, Canowindra\, NSW\, 
 2804\, Australia
END:VEVENT
END:VCALENDAR
