BEGIN:VCALENDAR
VERSION:2.0
PRODID:-//Squarespace Inc/Squarespace 6//v6//EN
BEGIN:VEVENT
UID:597ff8f915d5db77a6247489@squarespace.com
DTSTAMP:20170801T034706Z
DTSTART:20170819T183000Z
DTEND:20170819T193000Z
SUMMARY:Baroque - Old and New
GEO:-33.281918;149.102615
LOCATION:Holy Trinity Anglican Church\, Byng Street\, Orange\, NSW\, 2800\, 
 Australia
END:VEVENT
END:VCALENDAR
