BEGIN:VCALENDAR
VERSION:2.0
PRODID:-//Squarespace Inc/Squarespace 6//v6//EN
BEGIN:VEVENT
UID:5a8e2d9f652deabecc17538b@squarespace.com
DTSTAMP:20181014T225404Z
DTSTART:20181118T010000Z
DTEND:20181118T033000Z
SUMMARY:Virtuoso #3: David Pereira
GEO:-33.281918;149.102615
LOCATION:Orange Civic Theatre\, Byng Street\, Orange\, NSW\, 2800\, Austral
 ia
END:VEVENT
END:VCALENDAR
