BEGIN:VCALENDAR
VERSION:2.0
PRODID:-//Squarespace Inc/Squarespace 6//v6//EN
BEGIN:VEVENT
UID:58ec8f59414fb58fde41f012@squarespace.com
DTSTAMP:20180222T024031Z
DTSTART:20171112T010000Z
DTEND:20171112T033000Z
SUMMARY:Virtuoso #2: Maggie Ferguson
GEO:-33.281918;149.102615
LOCATION:Orange Civic Theatre\, Byng Street\, Orange\, NSW\, 2800\, Austral
 ia
END:VEVENT
END:VCALENDAR
