BEGIN:VCALENDAR
VERSION:2.0
PRODID:-//Squarespace Inc/Squarespace 6//v6//EN
BEGIN:VEVENT
UID:5684c543c647addb574cf485@squarespace.com
DTSTAMP:20160208T072356Z
DTSTART:20160417T180000Z
DTEND:20160417T200000Z
SUMMARY:David Pereira Presents: CCCO & David Pereira
GEO:-33.283577;149.10127
LOCATION:Ainsle Arts Centre
END:VEVENT
END:VCALENDAR
