BEGIN:VCALENDAR
VERSION:2.0
PRODID:-//Squarespace Inc/Squarespace 6//v6//EN
BEGIN:VEVENT
UID:5684c4d0b204d5d8d5270a0c@squarespace.com
DTSTAMP:20160211T003508Z
DTSTART:20160416T234500Z
DTEND:20160417T014500Z
SUMMARY:David Pereira Presents: CCCO & David Pereira
GEO:-34.841142;148.91095
LOCATION:Yass Memorial Hall\, 78 Comur St\, Yass NSW
END:VEVENT
END:VCALENDAR
