BEGIN:VCALENDAR
VERSION:2.0
PRODID:-//Squarespace Inc/Squarespace 6//v6//EN
BEGIN:VEVENT
UID:5684b2a857eb8d8ced717ca1@squarespace.com
DTSTAMP:20160211T003756Z
DTSTART:20161113T010000Z
DTEND:20161113T040000Z
SUMMARY:Virtuoso #1: Andrew Sords
GEO:-33.28181;149.102124
LOCATION:Orange Civic Theatre\, 135 Byng Street\, Orange\, NSW\, 2800\, Aus
 tralia
END:VEVENT
END:VCALENDAR
