BEGIN:VCALENDAR
VERSION:2.0
PRODID:-//Squarespace Inc/Squarespace 6//v6//EN
BEGIN:VEVENT
UID:5684b1c40e4c1155e1f5a13d@squarespace.com
DTSTAMP:20160211T003803Z
DTSTART:20161112T010000Z
DTEND:20161112T040000Z
SUMMARY:Virtuoso #1: Andrew Sords
GEO:-33.419104;149.578792
LOCATION:Bathurst Memorial Entertainment Centre\, 105 William Street\, Bath
 urst NSW 2795\, Australia
END:VEVENT
END:VCALENDAR
