BEGIN:VCALENDAR
VERSION:2.0
PRODID:-//Squarespace Inc/Squarespace 6//v6//EN
BEGIN:VEVENT
UID:5684b70a05f8e2c7f89f77f5@squarespace.com
DTSTAMP:20160211T003533Z
DTSTART:20161014T233000Z
DTEND:20161017T003000Z
SUMMARY:Vivaldi 4 seasons - via Buenos Aires!
GEO:-33.565492;148.660467
LOCATION:Canowindra Baroque Festival
END:VEVENT
END:VCALENDAR
