BEGIN:VCALENDAR
VERSION:2.0
PRODID:-//Squarespace Inc/Squarespace 6//v6//EN
BEGIN:VEVENT
UID:5684ac82d82d5e479cddd462@squarespace.com
DTSTAMP:20160101T015329Z
DTSTART:20151205T193000Z
DTEND:20151205T203000Z
SUMMARY:The Lark Ascending
GEO:-33.281097;149.099203
LOCATION:Holy Trinity Anglican Church\, Anson Street\, Orange\, NSW\, 2800\
 , Australia
END:VEVENT
END:VCALENDAR
