BEGIN:VCALENDAR
VERSION:2.0
PRODID:-//Squarespace Inc/Squarespace 6//v6//EN
BEGIN:VEVENT
UID:5684ab14841aba6b2a7bae9b@squarespace.com
DTSTAMP:20160101T020106Z
DTSTART:20150913T183000Z
DTEND:20150913T193000Z
SUMMARY:European Selections
GEO:-33.281097;149.099203
LOCATION:Holy Trinity Anglican Church\, Anson Street\, Orange\, NSW\, 2800\
 , Australia
END:VEVENT
END:VCALENDAR
